BEGIN:VCALENDAR
VERSION:2.0
CALSCALE:GREGORIAN
PRODID:adamgibbons/ics
METHOD:PUBLISH
X-PUBLISHED-TTL:PT1H
BEGIN:VEVENT
UID:1152350995
SUMMARY:Фестиваль зумерского кино «CTRL+FEST»
DTSTAMP:20260320T074400Z
DTSTART:20260429T070000Z
DTEND:20260429T143000Z
LOCATION:Покровский бульвар\, д. 11\, корп. Z Россия\, Москва
STATUS:CONFIRMED
END:VEVENT
END:VCALENDAR
