BEGIN:VCALENDAR
VERSION:2.0
CALSCALE:GREGORIAN
PRODID:adamgibbons/ics
METHOD:PUBLISH
X-PUBLISHED-TTL:PT1H
BEGIN:VEVENT
UID:1152349145
SUMMARY:Встреча клуба настольных игр «На поле он»
DTSTAMP:20260320T074400Z
DTSTART:20260427T140000Z
DTEND:20260427T160000Z
LOCATION:Старая Басманная улица\, 21/4с3\, Россия\, Москва
STATUS:CONFIRMED
END:VEVENT
END:VCALENDAR
