BEGIN:VCALENDAR
VERSION:2.0
CALSCALE:GREGORIAN
PRODID:adamgibbons/ics
METHOD:PUBLISH
X-PUBLISHED-TTL:PT1H
BEGIN:VEVENT
UID:1148844931
SUMMARY:Концерт Биг-Бенда ВШЭ в международный день джаза
DTSTAMP:20260320T074400Z
DTSTART:20260430T160000Z
DTEND:20260430T180000Z
LOCATION:Старая Басманная улица\, 21/4с1\, Россия\, Москва
STATUS:CONFIRMED
END:VEVENT
END:VCALENDAR
