BEGIN:VCALENDAR
VERSION:2.0
CALSCALE:GREGORIAN
PRODID:adamgibbons/ics
METHOD:PUBLISH
X-PUBLISHED-TTL:PT1H
BEGIN:VEVENT
UID:1148843140
SUMMARY:Музыкальный квиз французского клуба ВШЭ
DTSTAMP:20260320T074400Z
DTSTART:20260420T133000Z
DTEND:20260420T150000Z
LOCATION:Старая Басманная улица\, 21/4с1\, Россия\, Москва
STATUS:CONFIRMED
END:VEVENT
END:VCALENDAR
